OziExplorer Map Data File Version 2.2
Eon4wd 2021 EON-TAS-11
EON-TAS-11.ozf4
1 ,Map Code,
WGS 84,WGS 84, 0.0000, 0.0000,WGS 84
Reserved 1
Reserved 2
Magnetic Variation,,,E
Map Projection,Mercator,PolyCal,No,AutoCalOnly,No,BSBUseWPX,No
Point01,xy, 0, 0,in, deg, 39, 22.096749, S, 143, 36.796875, E, grid, , , ,N
Point02,xy, 7423, 0,in, deg, 39, 22.096749, S, 148, 42.615051, E, grid, , , ,N
Point03,xy, 7423, 8703,in, deg, 43, 50.041888, S, 148, 42.615051, E, grid, , , ,N
Point04,xy, 0, 8703,in, deg, 43, 50.041888, S, 143, 36.796875, E, grid, , , ,N
Point05,xy, , ,in, deg, , , grid, , , ,N
Point06,xy, , ,in, deg, , , grid, , , ,N
Point07,xy, , ,in, deg, , , grid, , , ,N
Point08,xy, , ,in, deg, , , grid, , , ,N
Point09,xy, , ,in, deg, , , grid, , , ,N
Point10,xy, , ,in, deg, , , grid, , , ,N
Point11,xy, , ,in, deg, , , grid, , , ,N
Point12,xy, , ,in, deg, , , grid, , , ,N
Point13,xy, , ,in, deg, , , grid, , , ,N
Point14,xy, , ,in, deg, , , grid, , , ,N
Point15,xy, , ,in, deg, , , grid, , , ,N
Point16,xy, , ,in, deg, , , grid, , , ,N
Point17,xy, , ,in, deg, , , grid, , , ,N
Point18,xy, , ,in, deg, , , grid, , , ,N
Point19,xy, , ,in, deg, , , grid, , , ,N
Point20,xy, , ,in, deg, , , grid, , , ,N
Point21,xy, , ,in, deg, , , grid, , , ,N
Point22,xy, , ,in, deg, , , grid, , , ,N
Point23,xy, , ,in, deg, , , grid, , , ,N
Point24,xy, , ,in, deg, , , grid, , , ,N
Point25,xy, , ,in, deg, , , grid, , , ,N
Point26,xy, , ,in, deg, , , grid, , , ,N
Point27,xy, , ,in, deg, , , grid, , , ,N
Point28,xy, , ,in, deg, , , grid, , , ,N
Point29,xy, , ,in, deg, , , grid, , , ,N
Point30,xy, , ,in, deg, , , grid, , , ,N
Projection Setup,,,,,,,,,,
Map Feature = MF ; Map Comment = MC These follow if they exist
Track File = TF These follow if they exist
Moving Map Parameters = MM? These follow if they exist
MM0,Yes
MMPNUM,4
MMPXY, 1, 0, 0
MMPXY, 2, 7423, 0
MMPXY, 3, 7423, 8703
MMPXY, 4, 0, 8703
MMPLL, 1, 143.613281, -39.368279
MMPLL, 2, 148.710251, -39.368279
MMPLL, 3, 148.710251, -43.834031
MMPLL, 4, 143.613281, -43.834031
MOP,Map Open Position,0,0
MM1B, 57.342985
IWH,Map Image Width/Height, 7424, 8704
