OziExplorer Map Data File Version 2.2
Eon4wd 2021 EON-SA-11
EON-SA-11.ozf4
1 ,Map Code,
WGS 84,WGS 84, 0.0000, 0.0000,WGS 84
Reserved 1
Reserved 2
Magnetic Variation,,,E
Map Projection,Mercator,PolyCal,No,AutoCalOnly,No,BSBUseWPX,No
Point01,xy, 0, 0,in, deg, 25, 9.910402, S, 127, 37.031250, E, grid, , , ,N
Point02,xy, 20479, 0,in, deg, 25, 9.910402, S, 141, 40.740051, E, grid, , , ,N
Point03,xy, 20479, 23807,in, deg, 38, 57.532492, S, 141, 40.740051, E, grid, , , ,N
Point04,xy, 0, 23807,in, deg, 38, 57.532492, S, 127, 37.031250, E, grid, , , ,N
Point05,xy, , ,in, deg, , , grid, , , ,N
Point06,xy, , ,in, deg, , , grid, , , ,N
Point07,xy, , ,in, deg, , , grid, , , ,N
Point08,xy, , ,in, deg, , , grid, , , ,N
Point09,xy, , ,in, deg, , , grid, , , ,N
Point10,xy, , ,in, deg, , , grid, , , ,N
Point11,xy, , ,in, deg, , , grid, , , ,N
Point12,xy, , ,in, deg, , , grid, , , ,N
Point13,xy, , ,in, deg, , , grid, , , ,N
Point14,xy, , ,in, deg, , , grid, , , ,N
Point15,xy, , ,in, deg, , , grid, , , ,N
Point16,xy, , ,in, deg, , , grid, , , ,N
Point17,xy, , ,in, deg, , , grid, , , ,N
Point18,xy, , ,in, deg, , , grid, , , ,N
Point19,xy, , ,in, deg, , , grid, , , ,N
Point20,xy, , ,in, deg, , , grid, , , ,N
Point21,xy, , ,in, deg, , , grid, , , ,N
Point22,xy, , ,in, deg, , , grid, , , ,N
Point23,xy, , ,in, deg, , , grid, , , ,N
Point24,xy, , ,in, deg, , , grid, , , ,N
Point25,xy, , ,in, deg, , , grid, , , ,N
Point26,xy, , ,in, deg, , , grid, , , ,N
Point27,xy, , ,in, deg, , , grid, , , ,N
Point28,xy, , ,in, deg, , , grid, , , ,N
Point29,xy, , ,in, deg, , , grid, , , ,N
Point30,xy, , ,in, deg, , , grid, , , ,N
Projection Setup,,,,,,,,,,
Map Feature = MF ; Map Comment = MC These follow if they exist
Track File = TF These follow if they exist
Moving Map Parameters = MM? These follow if they exist
MM0,Yes
MMPNUM,4
MMPXY, 1, 0, 0
MMPXY, 2, 20479, 0
MMPXY, 3, 20479, 23807
MMPXY, 4, 0, 23807
MMPLL, 1, 127.617188, -25.165173
MMPLL, 2, 141.679001, -25.165173
MMPLL, 3, 141.679001, -38.958875
MMPLL, 4, 127.617188, -38.958875
MOP,Map Open Position,0,0
MM1B, 64.993119
IWH,Map Image Width/Height, 20480, 23808
