OziExplorer Map Data File Version 2.2
Eon4wd 2021 EON-NSW-11
EON-NSW-11.ozf4
1 ,Map Code,
WGS 84,WGS 84, 0.0000, 0.0000,WGS 84
Reserved 1
Reserved 2
Magnetic Variation,,,E
Map Projection,Mercator,PolyCal,No,AutoCalOnly,No,BSBUseWPX,No
Point01,xy, 0, 0,in, deg, 26, 54.148613, S, 140, 26.953125, E, grid, , , ,N
Point02,xy, 19711, 0,in, deg, 26, 54.148613, S, 153, 59.021301, E, grid, , , ,N
Point03,xy, 19711, 18943,in, deg, 37, 51.417901, S, 153, 59.021301, E, grid, , , ,N
Point04,xy, 0, 18943,in, deg, 37, 51.417901, S, 140, 26.953125, E, grid, , , ,N
Point05,xy, , ,in, deg, , , grid, , , ,N
Point06,xy, , ,in, deg, , , grid, , , ,N
Point07,xy, , ,in, deg, , , grid, , , ,N
Point08,xy, , ,in, deg, , , grid, , , ,N
Point09,xy, , ,in, deg, , , grid, , , ,N
Point10,xy, , ,in, deg, , , grid, , , ,N
Point11,xy, , ,in, deg, , , grid, , , ,N
Point12,xy, , ,in, deg, , , grid, , , ,N
Point13,xy, , ,in, deg, , , grid, , , ,N
Point14,xy, , ,in, deg, , , grid, , , ,N
Point15,xy, , ,in, deg, , , grid, , , ,N
Point16,xy, , ,in, deg, , , grid, , , ,N
Point17,xy, , ,in, deg, , , grid, , , ,N
Point18,xy, , ,in, deg, , , grid, , , ,N
Point19,xy, , ,in, deg, , , grid, , , ,N
Point20,xy, , ,in, deg, , , grid, , , ,N
Point21,xy, , ,in, deg, , , grid, , , ,N
Point22,xy, , ,in, deg, , , grid, , , ,N
Point23,xy, , ,in, deg, , , grid, , , ,N
Point24,xy, , ,in, deg, , , grid, , , ,N
Point25,xy, , ,in, deg, , , grid, , , ,N
Point26,xy, , ,in, deg, , , grid, , , ,N
Point27,xy, , ,in, deg, , , grid, , , ,N
Point28,xy, , ,in, deg, , , grid, , , ,N
Point29,xy, , ,in, deg, , , grid, , , ,N
Point30,xy, , ,in, deg, , , grid, , , ,N
Projection Setup,,,,,,,,,,
Map Feature = MF ; Map Comment = MC These follow if they exist
Track File = TF These follow if they exist
Moving Map Parameters = MM? These follow if they exist
MM0,Yes
MMPNUM,4
MMPXY, 1, 0, 0
MMPXY, 2, 19711, 0
MMPXY, 3, 19711, 18943
MMPXY, 4, 0, 18943
MMPLL, 1, 140.449219, -26.902477
MMPLL, 2, 153.983688, -26.902477
MMPLL, 3, 153.983688, -37.856965
MMPLL, 4, 140.449219, -37.856965
MOP,Map Open Position,0,0
MM1B, 64.766266
IWH,Map Image Width/Height, 19712, 18944
